BEGIN:VCALENDAR
VERSION:2.0
PRODID:-//Frome Chamber Of Commerce - ECPv6.15.20//NONSGML v1.0//EN
CALSCALE:GREGORIAN
METHOD:PUBLISH
X-WR-CALNAME:Frome Chamber Of Commerce
X-ORIGINAL-URL:https://fromechamber.com
X-WR-CALDESC:Events for Frome Chamber Of Commerce
REFRESH-INTERVAL;VALUE=DURATION:PT1H
X-Robots-Tag:noindex
X-PUBLISHED-TTL:PT1H
BEGIN:VTIMEZONE
TZID:Europe/London
BEGIN:DAYLIGHT
TZOFFSETFROM:+0000
TZOFFSETTO:+0100
TZNAME:BST
DTSTART:20250330T010000
END:DAYLIGHT
BEGIN:STANDARD
TZOFFSETFROM:+0100
TZOFFSETTO:+0000
TZNAME:GMT
DTSTART:20251026T010000
END:STANDARD
BEGIN:DAYLIGHT
TZOFFSETFROM:+0000
TZOFFSETTO:+0100
TZNAME:BST
DTSTART:20260329T010000
END:DAYLIGHT
BEGIN:STANDARD
TZOFFSETFROM:+0100
TZOFFSETTO:+0000
TZNAME:GMT
DTSTART:20261025T010000
END:STANDARD
BEGIN:DAYLIGHT
TZOFFSETFROM:+0000
TZOFFSETTO:+0100
TZNAME:BST
DTSTART:20270328T010000
END:DAYLIGHT
BEGIN:STANDARD
TZOFFSETFROM:+0100
TZOFFSETTO:+0000
TZNAME:GMT
DTSTART:20271031T010000
END:STANDARD
END:VTIMEZONE
BEGIN:VEVENT
DTSTART;TZID=Europe/London:20260611T093000
DTEND;TZID=Europe/London:20260611T113000
DTSTAMP:20260421T095041
CREATED:20260209T152157Z
LAST-MODIFIED:20260210T121223Z
UID:5058-1781170200-1781177400@fromechamber.com
SUMMARY:Frome Chamber Coffee Morning at The Blue House
DESCRIPTION:Frome Chamber are delighted to invite you to a coffee morning at The Blue House on June 11th\, 9.30-11.30. David Hoare\, Manager at The Blue House will give a short talk about the history\, and lead a tour around the building before coffee (or tea) and cakes in what was once the chapel and\, weather permitting\, in the glorious gardens that stretch back to the river. \nThere has been an alms house providing shelter for Frome’s homeless on the island surrounded by the river Frome and the flood run-off\, since the late 15th century. One of only two grade 1 listed buildings in the town (the other being Rook Lane Chapel)\, The Blue House as we see it today dates back to between 1720 and 1728\, but this replaced an earlier building erected between 1620 and 1650\, which itself replaced a building dating back to the late 15th century. The original site (likely to have been set further back from the road – records speak of gardens to the front) was founded by the then Lord of the Manor\, William Leversedge\, who was so moved by the plight of the homeless in Frome\, he decided to do something about it. \nThe Blue House receives no funding from Government\, surviving on pledges\, donations\, the rents charged (which are below market rates) and occasional grants. David has recently launched a new campaign to raise £500\,000 for urgent repairs needed to windows\, roof and external walls \nThis is an excellent opportunity to combine networking with a peek inside one of Frome’s oldest treasures.
URL:https://fromechamber.com/event/frome-chamber-coffee-morning-at-the-blue-house/
LOCATION:The Blue House\, The Bridge\, Frome\, Somerset\, BA11 1AP\, United Kingdom
CATEGORIES:Tea coffee and cake with a Chamber Member
ATTACH;FMTTYPE=image/jpeg:https://fromechamber.com/wp-content/uploads/2026/01/Blue-House-coffee-morning-1-scaled.jpg
END:VEVENT
BEGIN:VEVENT
DTSTART;TZID=Europe/London:20260915T093000
DTEND;TZID=Europe/London:20260915T113000
DTSTAMP:20260421T095041
CREATED:20260324T162538Z
LAST-MODIFIED:20260325T155454Z
UID:5334-1789464600-1789471800@fromechamber.com
SUMMARY:Frome Chamber Coffee Morning at Vallis Farm
DESCRIPTION:Frome Chamber are delighted to invite you to a coffee morning at Vallis Farm on September 15th\, 9.30-11.30. Vicky Hunter-Frigeiro\, Business Development Manager will introduce Vallis Farm and lead a tour around the grounds before kindly providing coffee (or tea) and pastries in the kitchen/lounge or\, weather permitting\, outside. \nAfter buying Vallis Farm in 2021\, Max Hatvany’s first priorities were to become energy and water independent – regenerating not only the land\, but the systems that sustain it. Then cultivating a garden that exists in harmony with the surrounding ecosystem: vibrant\, edible\, and alive with pollinators\, birdsong\, and biodiversity. Finally\, a community – Friends of Vallis Farm – and a space where knowledge is shared\, where people connect with nature and each other\, and where you can explore what it means to live well. Recently\, a natural swimming pool and sauna have been added. It truly is a place where you can feel close to the rhythm of the Earth. \nJoin us for networking and an opportunity to shop in Vallis Farm kitchen. The eggs are excellent!
URL:https://fromechamber.com/event/frome-chamber-coffee-morning-at-vallis-farm/
LOCATION:Vallis Farm\, Elm Lane\, Egford\, Frome\, BA11 3JQ
CATEGORIES:Coffee and Cake Morning
ATTACH;FMTTYPE=image/jpeg:https://fromechamber.com/wp-content/uploads/2026/03/Vallis-Farm-coffee-morning-1.jpg
END:VEVENT
END:VCALENDAR