BEGIN:VCALENDAR
VERSION:2.0
PRODID:-//Frome Chamber Of Commerce - ECPv6.15.20//NONSGML v1.0//EN
CALSCALE:GREGORIAN
METHOD:PUBLISH
X-WR-CALNAME:Frome Chamber Of Commerce
X-ORIGINAL-URL:https://fromechamber.com
X-WR-CALDESC:Events for Frome Chamber Of Commerce
REFRESH-INTERVAL;VALUE=DURATION:PT1H
X-Robots-Tag:noindex
X-PUBLISHED-TTL:PT1H
BEGIN:VTIMEZONE
TZID:Europe/London
BEGIN:DAYLIGHT
TZOFFSETFROM:+0000
TZOFFSETTO:+0100
TZNAME:BST
DTSTART:20220327T010000
END:DAYLIGHT
BEGIN:STANDARD
TZOFFSETFROM:+0100
TZOFFSETTO:+0000
TZNAME:GMT
DTSTART:20221030T010000
END:STANDARD
BEGIN:DAYLIGHT
TZOFFSETFROM:+0000
TZOFFSETTO:+0100
TZNAME:BST
DTSTART:20230326T010000
END:DAYLIGHT
BEGIN:STANDARD
TZOFFSETFROM:+0100
TZOFFSETTO:+0000
TZNAME:GMT
DTSTART:20231029T010000
END:STANDARD
BEGIN:DAYLIGHT
TZOFFSETFROM:+0000
TZOFFSETTO:+0100
TZNAME:BST
DTSTART:20240331T010000
END:DAYLIGHT
BEGIN:STANDARD
TZOFFSETFROM:+0100
TZOFFSETTO:+0000
TZNAME:GMT
DTSTART:20241027T010000
END:STANDARD
BEGIN:DAYLIGHT
TZOFFSETFROM:+0000
TZOFFSETTO:+0100
TZNAME:BST
DTSTART:20250330T010000
END:DAYLIGHT
BEGIN:STANDARD
TZOFFSETFROM:+0100
TZOFFSETTO:+0000
TZNAME:GMT
DTSTART:20251026T010000
END:STANDARD
END:VTIMEZONE
BEGIN:VEVENT
DTSTART;TZID=Europe/London:20240111T080000
DTEND;TZID=Europe/London:20240111T100000
DTSTAMP:20260423T095711
CREATED:20231128T161121Z
LAST-MODIFIED:20231128T161121Z
UID:4139-1704960000-1704967200@fromechamber.com
SUMMARY:Breakfast with Somerset Council
DESCRIPTION:An opportunity to find out about the council’s plans for 2024 and to ask senior council officers questions on a range of topics. \nOpen to Somerset Chamber members and non-members. \nClick here to book a ticket. \nLocation:Taunton and Pickeridge Golf Club\,Corfe\,Taunton\,TA3 7BY
URL:https://fromechamber.com/event/breakfast-with-somerset-council/
END:VEVENT
BEGIN:VEVENT
DTSTART;TZID=Europe/London:20231129T073000
DTEND;TZID=Europe/London:20231129T090000
DTSTAMP:20260423T095711
CREATED:20231026T075038Z
LAST-MODIFIED:20231026T075038Z
UID:4127-1701243000-1701248400@fromechamber.com
SUMMARY:November Business Breakfast
DESCRIPTION:Hosted by the Frome Chamber of Commerce and supported by Edventure Frome C.I.C. Enjoy a delicious breakfast (vegetarian\, vegan\, or meat) and plenty of coffee while making new connections in the local business community. This is a wonderful opportunity to expand your network\, find new opportunities\, and receive support. \nAs always be they’ll be plenty of networking opportunities where businesses can both help each other and provide resources and support. \nWe will provide a delicious cooked breakfast – vegetarian\, vegan\, meat and gluten free options are available plus lots of coffee. \nPlease let us know of any dietary requirements and/or allergies when booking a ticket. \nTickets are limited so please book early to avoid disappointment. \nBooking closes 11am on 28th November. Book here. \n 
URL:https://fromechamber.com/event/november-business-breakfast/
LOCATION:Riverhouse Cafe\, 2 Bridge Street\, Frome\, BA11 1BB
END:VEVENT
BEGIN:VEVENT
DTSTART;TZID=Europe/London:20231026T183000
DTEND;TZID=Europe/London:20231026T210000
DTSTAMP:20260423T095711
CREATED:20230817T221558Z
LAST-MODIFIED:20230929T115137Z
UID:4090-1698345000-1698354000@fromechamber.com
SUMMARY:Frome Chamber AGM
DESCRIPTION:Frome & District Chamber of Commerce is holding its AGM on Thursday 26th October at the Naval Room\, upstairs at The Archangel from 6.30pm until 9pm. After a brief meeting to confirm accounts\, we are inviting you and a guest (even if you are not currently a member) to join us for a drink and a chat about what the Chamber is planning\, and how we can support your business. \nPlease RSVP to president@fromechamber.com with your name(s) and company.
URL:https://fromechamber.com/event/frome-chamber-agm-2/
LOCATION:Archangel\, 1 King Street\, Frome\, BA11 1BH
END:VEVENT
BEGIN:VEVENT
DTSTART;TZID=Europe/London:20231005T190000
DTEND;TZID=Europe/London:20231005T210000
DTSTAMP:20260423T095711
CREATED:20230917T211507Z
LAST-MODIFIED:20230917T211507Z
UID:4109-1696532400-1696539600@fromechamber.com
SUMMARY:A-Plan Insurance Launch Night
DESCRIPTION:You are invited to join A-Plan for a complimentary evening of celebration as they launch their new branding and company name\, Howden. \nTo continue the company’s on-going campaign to support Fair Frome. There will be a raffle on the evening with the top prize of a £300 Mulberry purse up for grabs and all proceeds going to the charity. Representatives from Fair Frome will also be speaking at the event. We hope to see you there! \n  \n 
URL:https://fromechamber.com/event/a-plan-insurance-launch-night/
LOCATION:Riverhouse Cafe\, 2 Bridge Street\, Frome\, BA11 1BB
ORGANIZER;CN="A-Plan Insurance%2C Frome":MAILTO:daniel.jeffery@aplan.co.uk
END:VEVENT
BEGIN:VEVENT
DTSTART;TZID=Europe/London:20230927T120000
DTEND;TZID=Europe/London:20230927T130000
DTSTAMP:20260423T095711
CREATED:20230823T181505Z
LAST-MODIFIED:20230823T181533Z
UID:4098-1695816000-1695819600@fromechamber.com
SUMMARY:Social Media for Business
DESCRIPTION:Social media has taken off over the course of the last 10 years and we are seeing now more than ever that people are using it as a platform to not only promote their businesses but also to make sales and network. \nSocial media can be a bit daunting if you aren’t used to it and this session is designed to give you some practical\, useful hints and tips to get your business noticed. Focussing on social media platforms – Facebook\, Instagram\, Twitter and LinkedIn – how to use them\, decipher insights and make the best of your businesses digital marketing offering. Free to take part\, book a place here.
URL:https://fromechamber.com/event/social-media-for-business/
LOCATION:online
END:VEVENT
END:VCALENDAR